BEGIN:VCALENDAR
VERSION:2.0
PRODID:-//SG Blau-Wei&szlig; Reichenbach e.V. - ECPv6.15.20//NONSGML v1.0//EN
CALSCALE:GREGORIAN
METHOD:PUBLISH
X-ORIGINAL-URL:https://blau-weiss-reichenbach.de
X-WR-CALDESC:Veranstaltungen für SG Blau-Wei&szlig; Reichenbach e.V.
REFRESH-INTERVAL;VALUE=DURATION:PT1H
X-Robots-Tag:noindex
X-PUBLISHED-TTL:PT1H
BEGIN:VTIMEZONE
TZID:Europe/Berlin
BEGIN:DAYLIGHT
TZOFFSETFROM:+0100
TZOFFSETTO:+0200
TZNAME:CEST
DTSTART:20250330T010000
END:DAYLIGHT
BEGIN:STANDARD
TZOFFSETFROM:+0200
TZOFFSETTO:+0100
TZNAME:CET
DTSTART:20251026T010000
END:STANDARD
BEGIN:DAYLIGHT
TZOFFSETFROM:+0100
TZOFFSETTO:+0200
TZNAME:CEST
DTSTART:20260329T010000
END:DAYLIGHT
BEGIN:STANDARD
TZOFFSETFROM:+0200
TZOFFSETTO:+0100
TZNAME:CET
DTSTART:20261025T010000
END:STANDARD
BEGIN:DAYLIGHT
TZOFFSETFROM:+0100
TZOFFSETTO:+0200
TZNAME:CEST
DTSTART:20270328T010000
END:DAYLIGHT
BEGIN:STANDARD
TZOFFSETFROM:+0200
TZOFFSETTO:+0100
TZNAME:CET
DTSTART:20271031T010000
END:STANDARD
END:VTIMEZONE
BEGIN:VEVENT
DTSTART;TZID=Europe/Berlin:20260419T100000
DTEND;TZID=Europe/Berlin:20260419T140000
DTSTAMP:20260420T080334
CREATED:20260311T144714Z
LAST-MODIFIED:20260311T144714Z
UID:2808-1776592800-1776607200@blau-weiss-reichenbach.de
SUMMARY:Punktspiel 7. Herren - VfB Lengenfeld 1908 5
DESCRIPTION:
URL:https://blau-weiss-reichenbach.de/event/punktspiel-7-herren-vfb-lengenfeld-1908-5/
LOCATION:Turnhalle Enge Gasse\, Enge Gasse 12\, Reichenbach im Vogtland\, 08468\, Germany
CATEGORIES:Punktspiel,Tischtennis
END:VEVENT
BEGIN:VEVENT
DTSTART;TZID=Europe/Berlin:20260419T100000
DTEND;TZID=Europe/Berlin:20260419T140000
DTSTAMP:20260420T080334
CREATED:20260311T143459Z
LAST-MODIFIED:20260311T143459Z
UID:2780-1776592800-1776607200@blau-weiss-reichenbach.de
SUMMARY:Punktspiel 3. Herren - 1. TTSV Schöneck
DESCRIPTION:
URL:https://blau-weiss-reichenbach.de/event/punktspiel-3-herren-1-ttsv-schoeneck/
LOCATION:Turnhalle Enge Gasse\, Enge Gasse 12\, Reichenbach im Vogtland\, 08468\, Germany
CATEGORIES:Punktspiel,Tischtennis
END:VEVENT
BEGIN:VEVENT
DTSTART;TZID=Europe/Berlin:20260419T090000
DTEND;TZID=Europe/Berlin:20260419T130000
DTSTAMP:20260420T080334
CREATED:20260104T162922Z
LAST-MODIFIED:20260104T162922Z
UID:2635-1776589200-1776603600@blau-weiss-reichenbach.de
SUMMARY:Punktspiel SV Fr. Schreiersgrün 2 - 4. Herren
DESCRIPTION:
URL:https://blau-weiss-reichenbach.de/event/punktspiel-sv-fr-schreiersgruen-2-4-herren/
LOCATION:SV Fr. Schreiersgrün\, Am Fronberg 11\, Schreiersgrün\, 08233
CATEGORIES:Punktspiel,Tischtennis
END:VEVENT
BEGIN:VEVENT
DTSTART;TZID=Europe/Berlin:20260418T180000
DTEND;TZID=Europe/Berlin:20260418T220000
DTSTAMP:20260420T080334
CREATED:20260311T142637Z
LAST-MODIFIED:20260311T142749Z
UID:2760-1776535200-1776549600@blau-weiss-reichenbach.de
SUMMARY:Punktspiel 1. Herren - Leutzscher Füchse
DESCRIPTION:
URL:https://blau-weiss-reichenbach.de/event/punktspiel-1-herren-leutzscher-fuechse/
LOCATION:Turnhalle Enge Gasse\, Enge Gasse 12\, Reichenbach im Vogtland\, 08468\, Germany
CATEGORIES:Punktspiel,Tischtennis
END:VEVENT
BEGIN:VEVENT
DTSTART;TZID=Europe/Berlin:20260418T160000
DTEND;TZID=Europe/Berlin:20260418T200000
DTSTAMP:20260420T080334
CREATED:20260311T144506Z
LAST-MODIFIED:20260311T144506Z
UID:2802-1776528000-1776542400@blau-weiss-reichenbach.de
SUMMARY:Punktspiel SV Rot-Weiß Treuen 4 - 6. Herren
DESCRIPTION:
URL:https://blau-weiss-reichenbach.de/event/punktspiel-sv-rot-weiss-treuen-4-6-herren/
LOCATION:SV Rot-Weiß Treuen\, Friedrich-Engels Str. 7\, Treuen\, 08233
CATEGORIES:Punktspiel,Tischtennis
END:VEVENT
BEGIN:VEVENT
DTSTART;TZID=Europe/Berlin:20260418T140000
DTEND;TZID=Europe/Berlin:20260418T180000
DTSTAMP:20260420T080334
CREATED:20260311T144113Z
LAST-MODIFIED:20260311T144113Z
UID:2792-1776520800-1776535200@blau-weiss-reichenbach.de
SUMMARY:Punktspiel SpVgg. Heinsdorferg. 5 - 5. Herren
DESCRIPTION:
URL:https://blau-weiss-reichenbach.de/event/punktspiel-spvgg-heinsdorferg-5-5-herren/
LOCATION:SpVgg. Heinsdorfergrund 02\, Alter Schulweg 1\, Heinsdorfergrund\, 08468\, Germany
CATEGORIES:Punktspiel,Tischtennis
END:VEVENT
BEGIN:VEVENT
DTSTART;TZID=Europe/Berlin:20260412T100000
DTEND;TZID=Europe/Berlin:20260412T140000
DTSTAMP:20260420T080334
CREATED:20260311T144423Z
LAST-MODIFIED:20260311T144423Z
UID:2800-1775988000-1776002400@blau-weiss-reichenbach.de
SUMMARY:Punktspiel 6. Herren - TTV Falkenstein 2
DESCRIPTION:
URL:https://blau-weiss-reichenbach.de/event/punktspiel-6-herren-ttv-falkenstein-2/
LOCATION:Turnhalle Enge Gasse\, Enge Gasse 12\, Reichenbach im Vogtland\, 08468\, Germany
CATEGORIES:Punktspiel,Tischtennis
END:VEVENT
BEGIN:VEVENT
DTSTART;TZID=Europe/Berlin:20260412T100000
DTEND;TZID=Europe/Berlin:20260412T140000
DTSTAMP:20260420T080334
CREATED:20260311T144030Z
LAST-MODIFIED:20260311T144030Z
UID:2790-1775988000-1776002400@blau-weiss-reichenbach.de
SUMMARY:Punktspiel 5. Herren - SV Rot-Weiß Treuen 4
DESCRIPTION:
URL:https://blau-weiss-reichenbach.de/event/punktspiel-5-herren-sv-rot-weiss-treuen-4/
LOCATION:Turnhalle Enge Gasse\, Enge Gasse 12\, Reichenbach im Vogtland\, 08468\, Germany
CATEGORIES:Punktspiel,Tischtennis
END:VEVENT
BEGIN:VEVENT
DTSTART;TZID=Europe/Berlin:20260412T090000
DTEND;TZID=Europe/Berlin:20260412T130000
DTSTAMP:20260420T080334
CREATED:20260311T143411Z
LAST-MODIFIED:20260311T143411Z
UID:2778-1775984400-1775998800@blau-weiss-reichenbach.de
SUMMARY:Punktspiel TTV Falkenstein - 3. Herren
DESCRIPTION:
URL:https://blau-weiss-reichenbach.de/event/punktspiel-ttv-falkenstein-3-herren/
LOCATION:TTV Falkenstein\, Hauptstr.\, Falkenstein\, 08223\, Germany
CATEGORIES:Punktspiel,Tischtennis
END:VEVENT
BEGIN:VEVENT
DTSTART;TZID=Europe/Berlin:20260412T083000
DTEND;TZID=Europe/Berlin:20260412T180000
DTSTAMP:20260420T080334
CREATED:20251221T231534Z
LAST-MODIFIED:20260404T173235Z
UID:2539-1775982600-1776016800@blau-weiss-reichenbach.de
SUMMARY:Tresenwald Spring Cup -- Kein Start in Reichenbach - da U16 unerwünscht
DESCRIPTION:Ausrichter: SV Tresenwald e.V. Machern\, Abteilung Badminton \nTermin: Sonntag\, 12.04.2026\, 9:00 Uhr \nSpielort: SV Tresenwald e.V. Machern Gartenallee 8\, 04827 Machern\, 6 Spielfelder \nSchleifchenturnier \nDoppel mit zugelosten Spielpartner\, paarweise Meldung sind nicht notwendig \nAnmeldung \nnur Spieler ab 16 Jahren …
URL:https://blau-weiss-reichenbach.de/event/tresenwald-spring-cup/
CATEGORIES:Allgemein,Badminton
ATTACH;FMTTYPE=image/jpeg:https://blau-weiss-reichenbach.de/wp-content/uploads/2025/12/IMG_20251122_093514-scaled.jpg
END:VEVENT
BEGIN:VEVENT
DTSTART;TZID=Europe/Berlin:20260412T080000
DTEND;TZID=Europe/Berlin:20260412T170000
DTSTAMP:20260420T080334
CREATED:20260216T140813Z
LAST-MODIFIED:20260404T173341Z
UID:2711-1775980800-1776013200@blau-weiss-reichenbach.de
SUMMARY:Frühjahrsturnier - TSV Blau Weiss Röhrsdorf -- Start in Reichenbach
DESCRIPTION:Ausschreibung Frühjahrsturnier Badminton\nTSV Blau Weiss Röhrsdorf\nEinladung für Hobby- und Freizeitspieler\nVeranstaltungsdetails\n• Datum: Sonntag\, 12. April 2026\n• Veranstaltungsort: Sporthalle der Grundschule Röhrsdorf\, Beethovenweg 44\, 09247 Chemnitz\n• Ausrichter: TSV Blau Weiss Röhrsdorf\nTeilnahmebedingungen\n• Spielberechtigt sind alle Hobby- und Freizeitspieler bis maximal Bezirksklasse.\n• Eine Vereinszugehörigkeit ist wünschenswert\, jedoch nicht zwingend erforderlich.\nAnmeldung\n• Die Anmeldung bitte mit Namen und Vereinsnamen per E-Mail an Sabine Eisfeld\n(sabi.eisfeld@web.de) oder per WhatsApp/Telefon an 01522/9368802.\n• Anmeldeschluss: 10. April 2026\nTurniermodus\n• Gespielt wird nach dem Schleifchenturnier-Prinzip: Jede Partie wird mit wechselndem Partner\nausgetragen\, sodass alle Teilnehmenden die gleiche Anzahl an Spielen absolvieren.\n• Die Mindestteilnehmerzahl beträgt 16\, die maximale 40 Personen.\n• Auslosung: 8:30 Uhr Turnierbeginn: 9:00 Uhr\nMeldegebühr & Spielmaterial\n• Die Teilnahmegebühr beträgt 9\,00 € pro Person.\n• Gespielt wird ausschließlich mit Naturfederbällen. Diese sind von den Teilnehmenden selbst\nmitzubringen; ein begrenztes Kontingent kann vor Ort erworben werden.\nAuszeichnungen\n• Die Erstplatzierten erhalten Urkunden sowie attraktive Sachpreise.\nVerpflegung\n• Für das leibliche Wohl der Teilnehmenden steht ein Imbissangebot bereit.\nHaftung\n• Der Veranstalter und Ausrichter übernehmen keine Haftung für Unfälle oder Schadensfälle jeglicher\nArt.\nRückfragen an:\nSabine Eisfeld – Freizeitwart\nTSV Blau Weiss Röhrsdorf\nAbtlg. Badminton
URL:https://blau-weiss-reichenbach.de/event/fruehjahrsturnier-tsv-blau-weiss-roehrsdorf/
CATEGORIES:Allgemein,Badminton
ATTACH;FMTTYPE=image/jpeg:https://blau-weiss-reichenbach.de/wp-content/uploads/2025/06/504807047_1241143774483065_3939196325169794515_n.jpg
END:VEVENT
BEGIN:VEVENT
DTSTART;TZID=Europe/Berlin:20260411T140000
DTEND;TZID=Europe/Berlin:20260411T180000
DTSTAMP:20260420T080334
CREATED:20260311T142537Z
LAST-MODIFIED:20260311T142744Z
UID:2758-1775916000-1775930400@blau-weiss-reichenbach.de
SUMMARY:Punktspiel TSV Elekt. Gornsdorf 2 - 1. Herren
DESCRIPTION:
URL:https://blau-weiss-reichenbach.de/event/punktspiel-tsv-elekt-gornsdorf-2-1-herren/
LOCATION:TSV Elektronik Gornsdorf\, Am Andreasberg 5\, Gornsdorf\, 09390
CATEGORIES:Punktspiel,Tischtennis
END:VEVENT
BEGIN:VEVENT
DTSTART;TZID=Europe/Berlin:20260411T130000
DTEND;TZID=Europe/Berlin:20260411T170000
DTSTAMP:20260420T080334
CREATED:20260311T144629Z
LAST-MODIFIED:20260311T144629Z
UID:2806-1775912400-1775926800@blau-weiss-reichenbach.de
SUMMARY:Punktspiel TV Ellefeld 4 - 7. Herren
DESCRIPTION:
URL:https://blau-weiss-reichenbach.de/event/punktspiel-tv-ellefeld-4-7-herren/
LOCATION:TV Ellefeld\, Turnstraße 5\, Ellefeld\, 08236\, Germany
CATEGORIES:Punktspiel,Tischtennis
END:VEVENT
BEGIN:VEVENT
DTSTART;TZID=Europe/Berlin:20260411T080000
DTEND;TZID=Europe/Berlin:20260411T170000
DTSTAMP:20260420T080334
CREATED:20260215T105525Z
LAST-MODIFIED:20260404T173218Z
UID:2706-1775894400-1775926800@blau-weiss-reichenbach.de
SUMMARY:Hohenstein-Ernstthal e.V.  2. Schleifchenturnier
DESCRIPTION:Ausschreibung\n2. Schleifchenturnier\nAusrichter: SV „Sachsenring“ Hohenstein-Ernstthal e.V.\nAbteilung Badminton\nTermin: Samstag\, den 11. April 2026\nAustragungsort: Hot Sportzentrum\nHohenstein-Ernstthal\, Logenstr. 2\n6 Spielfelder\nBeginn: 9:00 Uhr\nDisziplinen: Doppel im Format Supermêlée\nBerechtigung: Nichtaktive\, Spieler und Spielerinnen\nbis Bezirksliga\nMeldungen: bis einschließlich 09. April 2026\nüber „www.svsachsenring.de/anmeldung“\nStartgebühren: 10\,00 EUR je Teilnehmer/in\nSpielball: Hybridfederbälle\, sind durch die Teilnehmer\nselbst zu stellen. Naturfederbälle nur wenn beide\nParteien einverstanden sind.\nSpielmodus: Doppel 2 Gewinnsätze bis 15 Punkte\nSchiedsrichter: Die Spiele sind selbst zu zählen\nVerpflegung: Imbiss & Getränke werden in der Halle\nangeboten
URL:https://blau-weiss-reichenbach.de/event/hohenstein-ernstthal-e-v-2-schleifchenturnier/
CATEGORIES:Allgemein,Badminton
ATTACH;FMTTYPE=image/jpeg:https://blau-weiss-reichenbach.de/wp-content/uploads/2025/09/PXL_20250906_101720150-scaled.jpg
END:VEVENT
BEGIN:VEVENT
DTSTART;TZID=Europe/Berlin:20260410T190000
DTEND;TZID=Europe/Berlin:20260410T230000
DTSTAMP:20260420T080334
CREATED:20260104T162824Z
LAST-MODIFIED:20260311T143703Z
UID:2633-1775847600-1775862000@blau-weiss-reichenbach.de
SUMMARY:Punktspiel Mühltroffer SV - 4. Herren
DESCRIPTION:
URL:https://blau-weiss-reichenbach.de/event/punktspiel-4-herren-muehltroffer-sv/
LOCATION:Mühltroffer SV\, Schützenstr. 29\, Mühltroff\, 07919
CATEGORIES:Punktspiel,Tischtennis
END:VEVENT
BEGIN:VEVENT
DTSTART;TZID=Europe/Berlin:20260329T100000
DTEND;TZID=Europe/Berlin:20260329T170000
DTSTAMP:20260420T080334
CREATED:20251221T230425Z
LAST-MODIFIED:20260302T164305Z
UID:2536-1774778400-1774803600@blau-weiss-reichenbach.de
SUMMARY:4. Weixdorfer Schleifchenturnier für Breitensportler __ TERMIN-Änderung
DESCRIPTION:4. Weixdorfer Schleifchenturnier für Breitensportler – Badminton \nAusrichter: SG Weixdorf e.V.\nDatum: Sonntag\, den 29.3.2026\nTurnierzeit: 10:00 – ca. 17:00 Uhr\nSpielort: Gerhard-Grafe-Sporthalle\,\nWeixdorfer Rathausplatz 2a\, 01108 Dresden\nTeilnehmer: Jeder\, der Lust am Spielen hat\n(Teilnehmer ab 16 Jahre\, Hobbyspieler bis max. Kreisklasse) \nSpielmodus: Schleifchenturnier\n(jeder Spieler bekommt zu jeder Runde einen neuen Spielpartner und\nneue Gegner zugelost\, jeder Teilnehmende hat die gleiche Anzahl an\nSpielen)\nBälle: Naturfederbälle\, Teilnehmende stellen Bälle selbst\nMeldung an: Sigrun Jäger\, E-Mail: breitensport@bvsachsen.de\nMeldetermin: bis 21.02.2026\nStartgeld: 10€ pro Teilnehmer \n  \n 
URL:https://blau-weiss-reichenbach.de/event/4-weixdorfer-schleifchenturnier-fuer-breitensportler/
CATEGORIES:Allgemein,Badminton
ATTACH;FMTTYPE=image/jpeg:https://blau-weiss-reichenbach.de/wp-content/uploads/2025/09/PXL_20250906_081938909-scaled.jpg
END:VEVENT
BEGIN:VEVENT
DTSTART;TZID=Europe/Berlin:20260329T093000
DTEND;TZID=Europe/Berlin:20260329T133000
DTSTAMP:20260420T080334
CREATED:20260311T144337Z
LAST-MODIFIED:20260311T144337Z
UID:2798-1774776600-1774791000@blau-weiss-reichenbach.de
SUMMARY:Punktspiel TTV Auerbach 3 - 6. Herren
DESCRIPTION:
URL:https://blau-weiss-reichenbach.de/event/punktspiel-ttv-auerbach-3-6-herren/
LOCATION:TTV Auerbach\, Am Feldschlößchen 13\, Auerbach\, 08209\, Germany
CATEGORIES:Punktspiel,Tischtennis
END:VEVENT
BEGIN:VEVENT
DTSTART;TZID=Europe/Berlin:20260329T090000
DTEND;TZID=Europe/Berlin:20260329T130000
DTSTAMP:20260420T080334
CREATED:20260311T143946Z
LAST-MODIFIED:20260311T143946Z
UID:2788-1774774800-1774789200@blau-weiss-reichenbach.de
SUMMARY:Punktspiel TTV Falkenstein 2 - 5. Herren
DESCRIPTION:
URL:https://blau-weiss-reichenbach.de/event/punktspiel-ttv-falkenstein-2-5-herren/
LOCATION:TTV Falkenstein\, Hauptstr.\, Falkenstein\, 08223\, Germany
CATEGORIES:Punktspiel,Tischtennis
END:VEVENT
BEGIN:VEVENT
DTSTART;TZID=Europe/Berlin:20260329T090000
DTEND;TZID=Europe/Berlin:20260329T130000
DTSTAMP:20260420T080334
CREATED:20260311T143320Z
LAST-MODIFIED:20260311T143320Z
UID:2776-1774774800-1774789200@blau-weiss-reichenbach.de
SUMMARY:Punktspiel SG Neustadt - 3. Herren
DESCRIPTION:
URL:https://blau-weiss-reichenbach.de/event/punktspiel-sg-neustadt-3-herren/
LOCATION:SG Neustadt\, Oelsnitzer Straße\, Poppengrün\, 08223\, Germany
CATEGORIES:Punktspiel,Tischtennis
END:VEVENT
BEGIN:VEVENT
DTSTART;TZID=Europe/Berlin:20260329T090000
DTEND;TZID=Europe/Berlin:20260329T130000
DTSTAMP:20260420T080334
CREATED:20260311T143022Z
LAST-MODIFIED:20260311T143022Z
UID:2769-1774774800-1774789200@blau-weiss-reichenbach.de
SUMMARY:Punktspiel SV 1861 Ortmannsdorf - 2. Herren
DESCRIPTION:
URL:https://blau-weiss-reichenbach.de/event/punktspiel-sv-1861-ortmannsdorf-2-herren/
LOCATION:SV 1861 Ortmannsdorf\, Neuschönburgerstr. 81\, Mülsen\, 08132\, Germany
CATEGORIES:Punktspiel,Tischtennis
END:VEVENT
BEGIN:VEVENT
DTSTART;TZID=Europe/Berlin:20260328T180000
DTEND;TZID=Europe/Berlin:20260328T220000
DTSTAMP:20260420T080334
CREATED:20260311T142447Z
LAST-MODIFIED:20260311T142803Z
UID:2756-1774720800-1774735200@blau-weiss-reichenbach.de
SUMMARY:Punktspiel 1. Herren - SG Aufbau Chemnitz
DESCRIPTION:
URL:https://blau-weiss-reichenbach.de/event/punktspiel-1-herren-sg-aufbau-chemnitz/
LOCATION:Turnhalle Enge Gasse\, Enge Gasse 12\, Reichenbach im Vogtland\, 08468\, Germany
CATEGORIES:Punktspiel,Tischtennis
END:VEVENT
BEGIN:VEVENT
DTSTART;TZID=Europe/Berlin:20260328T130000
DTEND;TZID=Europe/Berlin:20260328T170000
DTSTAMP:20260420T080334
CREATED:20260311T142939Z
LAST-MODIFIED:20260311T142939Z
UID:2767-1774702800-1774717200@blau-weiss-reichenbach.de
SUMMARY:Punktspiel 2. Herren - Post SV Plauen
DESCRIPTION:
URL:https://blau-weiss-reichenbach.de/event/punktspiel-2-herren-post-sv-plauen/
LOCATION:Turnhalle Enge Gasse\, Enge Gasse 12\, Reichenbach im Vogtland\, 08468\, Germany
CATEGORIES:Punktspiel,Tischtennis
END:VEVENT
BEGIN:VEVENT
DTSTART;TZID=Europe/Berlin:20260328T130000
DTEND;TZID=Europe/Berlin:20260328T170000
DTSTAMP:20260420T080334
CREATED:20260104T162717Z
LAST-MODIFIED:20260104T162717Z
UID:2631-1774702800-1774717200@blau-weiss-reichenbach.de
SUMMARY:Punktspiel 4. Herren - Post SV Plauen 2
DESCRIPTION:
URL:https://blau-weiss-reichenbach.de/event/punktspiel-4-herren-post-sv-plauen-2/
LOCATION:Turnhalle Enge Gasse\, Enge Gasse 12\, Reichenbach im Vogtland\, 08468\, Germany
CATEGORIES:Punktspiel,Tischtennis
END:VEVENT
BEGIN:VEVENT
DTSTART;TZID=Europe/Berlin:20260328T100000
DTEND;TZID=Europe/Berlin:20260328T140000
DTSTAMP:20260420T080334
CREATED:20260311T144951Z
LAST-MODIFIED:20260311T144951Z
UID:2814-1774692000-1774706400@blau-weiss-reichenbach.de
SUMMARY:Punktspiel 1. Jugend u15 - SpVgg. Heinsdorferg.
DESCRIPTION:
URL:https://blau-weiss-reichenbach.de/event/punktspiel-1-jugend-u15-spvgg-heinsdorferg/
LOCATION:Turnhalle Enge Gasse\, Enge Gasse 12\, Reichenbach im Vogtland\, 08468\, Germany
CATEGORIES:Punktspiel,Tischtennis
END:VEVENT
BEGIN:VEVENT
DTSTART;TZID=Europe/Berlin:20260322T100000
DTEND;TZID=Europe/Berlin:20260322T140000
DTSTAMP:20260420T080334
CREATED:20260311T143854Z
LAST-MODIFIED:20260311T143854Z
UID:2786-1774173600-1774188000@blau-weiss-reichenbach.de
SUMMARY:Punktspiel 5. Herren - TTV Auerbach 3
DESCRIPTION:
URL:https://blau-weiss-reichenbach.de/event/punktspiel-5-herren-ttv-auerbach-3/
LOCATION:Turnhalle Enge Gasse\, Enge Gasse 12\, Reichenbach im Vogtland\, 08468\, Germany
CATEGORIES:Punktspiel,Tischtennis
END:VEVENT
BEGIN:VEVENT
DTSTART;TZID=Europe/Berlin:20260321T160000
DTEND;TZID=Europe/Berlin:20260321T200000
DTSTAMP:20260420T080334
CREATED:20260311T143216Z
LAST-MODIFIED:20260311T143216Z
UID:2773-1774108800-1774123200@blau-weiss-reichenbach.de
SUMMARY:Punktspiel SV Rot-Weiß Treuen 2 - 3. Herren
DESCRIPTION:
URL:https://blau-weiss-reichenbach.de/event/punktspiel-sv-rot-weiss-treuen-2-3-herren/
LOCATION:SV Rot-Weiß Treuen\, Friedrich-Engels Str. 7\, Treuen\, 08233
CATEGORIES:Punktspiel,Tischtennis
END:VEVENT
BEGIN:VEVENT
DTSTART;TZID=Europe/Berlin:20260321T150000
DTEND;TZID=Europe/Berlin:20260321T190000
DTSTAMP:20260420T080334
CREATED:20260104T162542Z
LAST-MODIFIED:20260104T162542Z
UID:2629-1774105200-1774119600@blau-weiss-reichenbach.de
SUMMARY:Punktspiel SV Muldenhammer 2 - 4. Herren
DESCRIPTION:
URL:https://blau-weiss-reichenbach.de/event/punktspiel-sv-muldenhammer-2-4-herren-2/
LOCATION:SV Muldenhammer\, Hammerbrückerstraße 11\, Muldenhammer / OT Tannenbergsthal\, 08262\, Germany
CATEGORIES:Punktspiel,Tischtennis
END:VEVENT
BEGIN:VEVENT
DTSTART;TZID=Europe/Berlin:20260321T140000
DTEND;TZID=Europe/Berlin:20260321T180000
DTSTAMP:20260420T080334
CREATED:20260311T144910Z
LAST-MODIFIED:20260311T144910Z
UID:2812-1774101600-1774116000@blau-weiss-reichenbach.de
SUMMARY:Punktspiel TTV Falkenstein - 1. Jugend u15
DESCRIPTION:
URL:https://blau-weiss-reichenbach.de/event/punktspiel-ttv-falkenstein-1-jugend-u15/
LOCATION:TTV Falkenstein\, Hauptstr.\, Falkenstein\, 08223\, Germany
CATEGORIES:Punktspiel,Tischtennis
END:VEVENT
BEGIN:VEVENT
DTSTART;TZID=Europe/Berlin:20260321T133000
DTEND;TZID=Europe/Berlin:20260321T173000
DTSTAMP:20260420T080334
CREATED:20260311T144255Z
LAST-MODIFIED:20260311T144255Z
UID:2796-1774099800-1774114200@blau-weiss-reichenbach.de
SUMMARY:Punktspiel SG Pfaffengrün 2 - 6. Herren
DESCRIPTION:
URL:https://blau-weiss-reichenbach.de/event/punktspiel-sg-pfaffengruen-2-6-herren/
LOCATION:SG Pfaffengrün\, zum Sportplatz\, Pfaffengrün\, 08233\, Germany
CATEGORIES:Punktspiel,Tischtennis
END:VEVENT
BEGIN:VEVENT
DTSTART;TZID=Europe/Berlin:20260315T090000
DTEND;TZID=Europe/Berlin:20260315T130000
DTSTAMP:20260420T080334
CREATED:20260311T143112Z
LAST-MODIFIED:20260311T143236Z
UID:2771-1773565200-1773579600@blau-weiss-reichenbach.de
SUMMARY:Punktspiel TTV 1979 Tirpersdorf 2 - 3. Herren
DESCRIPTION:
URL:https://blau-weiss-reichenbach.de/event/punktspiel-ttv-1979-tirpersdorf-2-3-herren/
LOCATION:TTV 1979 Tirpersdorf\, Hauptstraße 36\, Tirpersdorf\, 08606
CATEGORIES:Punktspiel,Tischtennis
END:VEVENT
END:VCALENDAR