BEGIN:VCALENDAR
VERSION:2.0
PRODID:-//SG Blau-Wei&szlig; Reichenbach e.V. - ECPv6.15.20//NONSGML v1.0//EN
CALSCALE:GREGORIAN
METHOD:PUBLISH
X-ORIGINAL-URL:https://blau-weiss-reichenbach.de
X-WR-CALDESC:Veranstaltungen für SG Blau-Wei&szlig; Reichenbach e.V.
REFRESH-INTERVAL;VALUE=DURATION:PT1H
X-Robots-Tag:noindex
X-PUBLISHED-TTL:PT1H
BEGIN:VTIMEZONE
TZID:Europe/Berlin
BEGIN:DAYLIGHT
TZOFFSETFROM:+0100
TZOFFSETTO:+0200
TZNAME:CEST
DTSTART:20250330T010000
END:DAYLIGHT
BEGIN:STANDARD
TZOFFSETFROM:+0200
TZOFFSETTO:+0100
TZNAME:CET
DTSTART:20251026T010000
END:STANDARD
BEGIN:DAYLIGHT
TZOFFSETFROM:+0100
TZOFFSETTO:+0200
TZNAME:CEST
DTSTART:20260329T010000
END:DAYLIGHT
BEGIN:STANDARD
TZOFFSETFROM:+0200
TZOFFSETTO:+0100
TZNAME:CET
DTSTART:20261025T010000
END:STANDARD
BEGIN:DAYLIGHT
TZOFFSETFROM:+0100
TZOFFSETTO:+0200
TZNAME:CEST
DTSTART:20270328T010000
END:DAYLIGHT
BEGIN:STANDARD
TZOFFSETFROM:+0200
TZOFFSETTO:+0100
TZNAME:CET
DTSTART:20271031T010000
END:STANDARD
END:VTIMEZONE
BEGIN:VEVENT
DTSTART;TZID=Europe/Berlin:20260422T185000
DTEND;TZID=Europe/Berlin:20260422T210000
DTSTAMP:20260420T093128
CREATED:20260415T123621Z
LAST-MODIFIED:20260415T124051Z
UID:2926-1776883800-1776891600@blau-weiss-reichenbach.de
SUMMARY:Badminton Training Mittwoch 2
DESCRIPTION:Der Verein freut sich über alle Mitspieler.  Details zur Abteilung Badminton befinden sich hier.
URL:https://blau-weiss-reichenbach.de/event/badminton-training-mittwoch-2/
CATEGORIES:Badminton,Training
ATTACH;FMTTYPE=image/jpeg:https://blau-weiss-reichenbach.de/wp-content/uploads/2024/11/BA__pixabay_white-male-1748806_1280.jpg
END:VEVENT
END:VCALENDAR