BEGIN:VCALENDAR
VERSION:2.0
PRODID:-//SG Blau-Wei&szlig; Reichenbach e.V. - ECPv6.15.20//NONSGML v1.0//EN
CALSCALE:GREGORIAN
METHOD:PUBLISH
X-ORIGINAL-URL:https://blau-weiss-reichenbach.de
X-WR-CALDESC:Veranstaltungen für SG Blau-Wei&szlig; Reichenbach e.V.
REFRESH-INTERVAL;VALUE=DURATION:PT1H
X-Robots-Tag:noindex
X-PUBLISHED-TTL:PT1H
BEGIN:VTIMEZONE
TZID:Europe/Berlin
BEGIN:DAYLIGHT
TZOFFSETFROM:+0100
TZOFFSETTO:+0200
TZNAME:CEST
DTSTART:20250330T010000
END:DAYLIGHT
BEGIN:STANDARD
TZOFFSETFROM:+0200
TZOFFSETTO:+0100
TZNAME:CET
DTSTART:20251026T010000
END:STANDARD
BEGIN:DAYLIGHT
TZOFFSETFROM:+0100
TZOFFSETTO:+0200
TZNAME:CEST
DTSTART:20260329T010000
END:DAYLIGHT
BEGIN:STANDARD
TZOFFSETFROM:+0200
TZOFFSETTO:+0100
TZNAME:CET
DTSTART:20261025T010000
END:STANDARD
BEGIN:DAYLIGHT
TZOFFSETFROM:+0100
TZOFFSETTO:+0200
TZNAME:CEST
DTSTART:20270328T010000
END:DAYLIGHT
BEGIN:STANDARD
TZOFFSETFROM:+0200
TZOFFSETTO:+0100
TZNAME:CET
DTSTART:20271031T010000
END:STANDARD
END:VTIMEZONE
BEGIN:VEVENT
DTSTART;TZID=Europe/Berlin:20260412T080000
DTEND;TZID=Europe/Berlin:20260412T170000
DTSTAMP:20260420T122008
CREATED:20260216T140813Z
LAST-MODIFIED:20260404T173341Z
UID:2711-1775980800-1776013200@blau-weiss-reichenbach.de
SUMMARY:Frühjahrsturnier - TSV Blau Weiss Röhrsdorf -- Start in Reichenbach
DESCRIPTION:Ausschreibung Frühjahrsturnier Badminton\nTSV Blau Weiss Röhrsdorf\nEinladung für Hobby- und Freizeitspieler\nVeranstaltungsdetails\n• Datum: Sonntag\, 12. April 2026\n• Veranstaltungsort: Sporthalle der Grundschule Röhrsdorf\, Beethovenweg 44\, 09247 Chemnitz\n• Ausrichter: TSV Blau Weiss Röhrsdorf\nTeilnahmebedingungen\n• Spielberechtigt sind alle Hobby- und Freizeitspieler bis maximal Bezirksklasse.\n• Eine Vereinszugehörigkeit ist wünschenswert\, jedoch nicht zwingend erforderlich.\nAnmeldung\n• Die Anmeldung bitte mit Namen und Vereinsnamen per E-Mail an Sabine Eisfeld\n(sabi.eisfeld@web.de) oder per WhatsApp/Telefon an 01522/9368802.\n• Anmeldeschluss: 10. April 2026\nTurniermodus\n• Gespielt wird nach dem Schleifchenturnier-Prinzip: Jede Partie wird mit wechselndem Partner\nausgetragen\, sodass alle Teilnehmenden die gleiche Anzahl an Spielen absolvieren.\n• Die Mindestteilnehmerzahl beträgt 16\, die maximale 40 Personen.\n• Auslosung: 8:30 Uhr Turnierbeginn: 9:00 Uhr\nMeldegebühr & Spielmaterial\n• Die Teilnahmegebühr beträgt 9\,00 € pro Person.\n• Gespielt wird ausschließlich mit Naturfederbällen. Diese sind von den Teilnehmenden selbst\nmitzubringen; ein begrenztes Kontingent kann vor Ort erworben werden.\nAuszeichnungen\n• Die Erstplatzierten erhalten Urkunden sowie attraktive Sachpreise.\nVerpflegung\n• Für das leibliche Wohl der Teilnehmenden steht ein Imbissangebot bereit.\nHaftung\n• Der Veranstalter und Ausrichter übernehmen keine Haftung für Unfälle oder Schadensfälle jeglicher\nArt.\nRückfragen an:\nSabine Eisfeld – Freizeitwart\nTSV Blau Weiss Röhrsdorf\nAbtlg. Badminton
URL:https://blau-weiss-reichenbach.de/event/fruehjahrsturnier-tsv-blau-weiss-roehrsdorf/
CATEGORIES:Allgemein,Badminton
ATTACH;FMTTYPE=image/jpeg:https://blau-weiss-reichenbach.de/wp-content/uploads/2025/06/504807047_1241143774483065_3939196325169794515_n.jpg
END:VEVENT
BEGIN:VEVENT
DTSTART;TZID=Europe/Berlin:20260412T083000
DTEND;TZID=Europe/Berlin:20260412T180000
DTSTAMP:20260420T122008
CREATED:20251221T231534Z
LAST-MODIFIED:20260404T173235Z
UID:2539-1775982600-1776016800@blau-weiss-reichenbach.de
SUMMARY:Tresenwald Spring Cup -- Kein Start in Reichenbach - da U16 unerwünscht
DESCRIPTION:Ausrichter: SV Tresenwald e.V. Machern\, Abteilung Badminton \nTermin: Sonntag\, 12.04.2026\, 9:00 Uhr \nSpielort: SV Tresenwald e.V. Machern Gartenallee 8\, 04827 Machern\, 6 Spielfelder \nSchleifchenturnier \nDoppel mit zugelosten Spielpartner\, paarweise Meldung sind nicht notwendig \nAnmeldung \nnur Spieler ab 16 Jahren …
URL:https://blau-weiss-reichenbach.de/event/tresenwald-spring-cup/
CATEGORIES:Allgemein,Badminton
ATTACH;FMTTYPE=image/jpeg:https://blau-weiss-reichenbach.de/wp-content/uploads/2025/12/IMG_20251122_093514-scaled.jpg
END:VEVENT
BEGIN:VEVENT
DTSTART;TZID=Europe/Berlin:20260412T090000
DTEND;TZID=Europe/Berlin:20260412T130000
DTSTAMP:20260420T122008
CREATED:20260311T143411Z
LAST-MODIFIED:20260311T143411Z
UID:2778-1775984400-1775998800@blau-weiss-reichenbach.de
SUMMARY:Punktspiel TTV Falkenstein - 3. Herren
DESCRIPTION:
URL:https://blau-weiss-reichenbach.de/event/punktspiel-ttv-falkenstein-3-herren/
LOCATION:TTV Falkenstein\, Hauptstr.\, Falkenstein\, 08223\, Germany
CATEGORIES:Punktspiel,Tischtennis
END:VEVENT
BEGIN:VEVENT
DTSTART;TZID=Europe/Berlin:20260412T100000
DTEND;TZID=Europe/Berlin:20260412T140000
DTSTAMP:20260420T122008
CREATED:20260311T144030Z
LAST-MODIFIED:20260311T144030Z
UID:2790-1775988000-1776002400@blau-weiss-reichenbach.de
SUMMARY:Punktspiel 5. Herren - SV Rot-Weiß Treuen 4
DESCRIPTION:
URL:https://blau-weiss-reichenbach.de/event/punktspiel-5-herren-sv-rot-weiss-treuen-4/
LOCATION:Turnhalle Enge Gasse\, Enge Gasse 12\, Reichenbach im Vogtland\, 08468\, Germany
CATEGORIES:Punktspiel,Tischtennis
END:VEVENT
BEGIN:VEVENT
DTSTART;TZID=Europe/Berlin:20260412T100000
DTEND;TZID=Europe/Berlin:20260412T140000
DTSTAMP:20260420T122008
CREATED:20260311T144423Z
LAST-MODIFIED:20260311T144423Z
UID:2800-1775988000-1776002400@blau-weiss-reichenbach.de
SUMMARY:Punktspiel 6. Herren - TTV Falkenstein 2
DESCRIPTION:
URL:https://blau-weiss-reichenbach.de/event/punktspiel-6-herren-ttv-falkenstein-2/
LOCATION:Turnhalle Enge Gasse\, Enge Gasse 12\, Reichenbach im Vogtland\, 08468\, Germany
CATEGORIES:Punktspiel,Tischtennis
END:VEVENT
END:VCALENDAR