BEGIN:VCALENDAR
VERSION:2.0
PRODID:-//SG Blau-Wei&szlig; Reichenbach e.V. - ECPv6.15.20//NONSGML v1.0//EN
CALSCALE:GREGORIAN
METHOD:PUBLISH
X-WR-CALNAME:SG Blau-Wei&szlig; Reichenbach e.V.
X-ORIGINAL-URL:https://blau-weiss-reichenbach.de
X-WR-CALDESC:Veranstaltungen für SG Blau-Wei&szlig; Reichenbach e.V.
REFRESH-INTERVAL;VALUE=DURATION:PT1H
X-Robots-Tag:noindex
X-PUBLISHED-TTL:PT1H
BEGIN:VTIMEZONE
TZID:Europe/Berlin
BEGIN:DAYLIGHT
TZOFFSETFROM:+0100
TZOFFSETTO:+0200
TZNAME:CEST
DTSTART:20250330T010000
END:DAYLIGHT
BEGIN:STANDARD
TZOFFSETFROM:+0200
TZOFFSETTO:+0100
TZNAME:CET
DTSTART:20251026T010000
END:STANDARD
BEGIN:DAYLIGHT
TZOFFSETFROM:+0100
TZOFFSETTO:+0200
TZNAME:CEST
DTSTART:20260329T010000
END:DAYLIGHT
BEGIN:STANDARD
TZOFFSETFROM:+0200
TZOFFSETTO:+0100
TZNAME:CET
DTSTART:20261025T010000
END:STANDARD
BEGIN:DAYLIGHT
TZOFFSETFROM:+0100
TZOFFSETTO:+0200
TZNAME:CEST
DTSTART:20270328T010000
END:DAYLIGHT
BEGIN:STANDARD
TZOFFSETFROM:+0200
TZOFFSETTO:+0100
TZNAME:CET
DTSTART:20271031T010000
END:STANDARD
END:VTIMEZONE
BEGIN:VEVENT
DTSTART;TZID=Europe/Berlin:20260410T190000
DTEND;TZID=Europe/Berlin:20260410T230000
DTSTAMP:20260420T121802
CREATED:20260104T162824Z
LAST-MODIFIED:20260311T143703Z
UID:2633-1775847600-1775862000@blau-weiss-reichenbach.de
SUMMARY:Punktspiel Mühltroffer SV - 4. Herren
DESCRIPTION:
URL:https://blau-weiss-reichenbach.de/event/punktspiel-4-herren-muehltroffer-sv/
LOCATION:Mühltroffer SV\, Schützenstr. 29\, Mühltroff\, 07919
CATEGORIES:Punktspiel,Tischtennis
END:VEVENT
END:VCALENDAR